BEGIN:VCALENDAR
VERSION:2.0
PRODID:-//ExpressionEngine Easy iCalendar plugin//NONSGML v2.0.1//EN
X-WR-TIMEZONE:America/New_York
X-WR-CALNAME:Upcoming Auctions
BEGIN:VEVENT
UID:108071
DTSTAMP:20231017T100000
DTSTART:20231017T100000
DTEND:20231017T110000
SUMMARY:Boyd's Automotive in Sanford Retirement Auction!
LOCATION:1615 Hawkins Ave.\, Sanford\, NC 27330\, US
DESCRIPTION:Lots 2 - 112 will be LIVE only starting at 10:00am! Lots 401
  - 453 will be ONLINE/LIVE/SIMULCAST starting at 11:15am! Ou
 r staff will be there as early as 8:30am\, show up early to g
 et registered! Boyd's Automotive has been serving the Sanfor
 d area for over 11 years and they have decided to hang up th
 eir wrenches and kick back a little.  They have contacted T
 eam JP to assist with selling all of their specialty tools\, 
 2 and 4 post lifts and even the tool boxes!  There is somet
 hing for everyone and every level of mechanic and weekend wa
 rrior alike. This will be a live/onsite auction with a porti
 on of the items being offered in an online/live/simulcast ev
 ent held right on the premises!  Mark your calendars and c
 all your car friends as this will be a good one!
URL:https://www.johnsonproperties.com/auctions/detail/bw108071
SEQUENCE:1
END:VEVENT
END:VCALENDAR