BEGIN:VCALENDAR
VERSION:2.0
PRODID:-//ExpressionEngine Easy iCalendar plugin//NONSGML v2.0.1//EN
X-WR-TIMEZONE:America/Indiana/Indianapolis
X-WR-CALNAME:Upcoming Auctions
BEGIN:VEVENT
UID:106824
DTSTAMP:20231019T120000
DTSTART:20231019T120000
DTEND:20231019T130000
SUMMARY:Brick Ranch on a Large Corner Lot in Pinecrest Acres\, Fayett
 eville\, NC!
LOCATION:4080 Rosehill Road\, Fayetteville\, NC 28311\, US
DESCRIPTION:Here is a great opportunity to buy a brick ranch home on a c
 orner lot with a detached building that served as a craft ro
 om.  There are 3 bedrooms and 2 baths with a huge owner's 
 suite and bath and a singe car carport.  The home also boas
 ts a metal roof and 2 additional storage type buildings for 
 all those necessary tools\, etc.  This will be an online/li
 ve simulcast event for this home held on the property.  Thi
 s is a super opportunity to buy a great home in an establish
 ed neighborhood (Pinecrest Acres).    
URL:https://www.johnsonproperties.com/auctions/detail/bw106824
SEQUENCE:1
END:VEVENT
END:VCALENDAR