BEGIN:VCALENDAR
VERSION:2.0
PRODID:-//ExpressionEngine Easy iCalendar plugin//NONSGML v2.0.1//EN
X-WR-TIMEZONE:America/New_York
X-WR-CALNAME:Upcoming Auctions
BEGIN:VEVENT
UID:106728
DTSTAMP:20230829T100000
DTSTART:20230829T100000
DTEND:20230829T110000
SUMMARY:Round 2: New and Nearly New Thrift Shop Retirement Auction E
 vents - LIVE AUCTION
LOCATION:810 Bragg Blvd\, Fayetteville\, NC 28301\, US
DESCRIPTION:The Thompson family is retiring after serving the Fayettevi
 lle area for 40 + years!  This will be a live only auction.
  We will have 414+ items that were not sold during the onlin
 e and round 1 live auction\, and some never seen before items
 ! This is your last chance to get some great items for every
  room in your home! Everything must go so bring your trucks 
 and trailers! Auction Date & Time: Tuesday\, August 29 at 10:
 00 AM Sharp! Auction Location: 810 Bragg Blvd. Fayetteville\,
  NC 28301
URL:https://www.johnsonproperties.com/auctions/detail/bw106728
SEQUENCE:1
END:VEVENT
END:VCALENDAR