BEGIN:VCALENDAR
VERSION:2.0
PRODID:-//ExpressionEngine Easy iCalendar plugin//NONSGML v2.0.1//EN
X-WR-TIMEZONE:America/New_York
X-WR-CALNAME:Upcoming Auctions
BEGIN:VEVENT
UID:106318
DTSTAMP:20230919T100000
DTSTART:20230919T100000
DTEND:20230919T110000
SUMMARY:Market Imports has Lost Their lease!
LOCATION:1208 Farmer's Market Drive\, Raleigh\, NC 27603\, US
DESCRIPTION:WE WILL HAVE 2 GREAT AUCTIONS ON SEPTEMBER 19TH FOR MARKET I
 MPORTS! 36 ITEMS ONLINE/LIVE/SIMULCAST! 291 ITEMS LIVE ONLY!
  The online/live/simulcast portion will start ending at 10:0
 0am and the live only portion will follow immediately after!
  Market Imports has been serving the Raleigh Community for 1
 5+ years and they have closed their doors forever! They have
  called upon Team JP to assist with selling all the remainin
 g contents including a cast iron gazebo\, large fountain and 
 numerous fountain pumps\, supplies\, etc.  There are lots of 
 shelves\, pallet racking\, 2 office trailers\, 5 semi-trailers 
 for storage\, a grand entry way with gates\, arbors\, lots of i
 ron fencing and decorative items.  We also have 2 forklifts
 \, numerous garden carts\, wagons\, a welder\, tools\, shipping c
 ontainers\, numerous stand fans\, hanging fans\, and even some 
 vintage decorator pieces like an authentic antique Pharmacy 
 Back Bar with mirrors\, etc!  This is your last chance to ge
 t items from this Raleigh gem. Auction Date and Time: Tuesda
 y September 19\, 2023 starts ending at 10am Auction Pickup Da
 te & Time: Immediately following the live portion unless sta
 ted otherwise or spoken with Johnson Property Staff.
URL:https://www.johnsonproperties.com/auctions/detail/bw106318
SEQUENCE:1
END:VEVENT
END:VCALENDAR