BEGIN:VCALENDAR
VERSION:2.0
PRODID:-//ExpressionEngine Easy iCalendar plugin//NONSGML v2.0.1//EN
X-WR-TIMEZONE:America/New_York
X-WR-CALNAME:Upcoming Auctions
BEGIN:VEVENT
UID:106246
DTSTAMP:20230907T093000
DTSTART:20230907T093000
DTEND:20230907T103000
SUMMARY:Owners Relocating Personal Property Auction
LOCATION:4504 YATES MILL POND RD\, RALEIGH\, NC 27606\, US
DESCRIPTION:The Cheely family has moved out of the Country and they have
  called on Team JP to assist with selling all of the remaini
 ng contents of their home. There are a large collection of t
 ools\, (both hand tools and power tools)\, office furniture an
 d office related items.  There are kitchen items\, flatware\,
  cast iron items\, pots\, pans\, etc. as well as dinnerware.  
 There are lots of home improvement items also\, shelving\, chi
 ldren’s toys\, bicycles\, outdoor items such as a Big Green 
 Egg cooker and even a canoe!   Please review the catalogue
  and photos as there are lots of items to choose from. PICK 
 UP DATE AND TIME: FRIDAY SEPTEMBER 8\, 2023 10AM-1PM PICK UP 
 LOCATION: 4504 YATES MILL POND RD RALEIGH\, NC 27606 There wi
 ll be very limited parking! You MUST schedule a pickup time 
 to grab your items\, if you do not schedule a time you may be
  asked to wait while we help ones that have an appointment t
 ime.
URL:https://www.johnsonproperties.com/auctions/detail/bw106246
SEQUENCE:1
END:VEVENT
END:VCALENDAR