BEGIN:VCALENDAR
VERSION:2.0
PRODID:-//ExpressionEngine Easy iCalendar plugin//NONSGML v2.0.1//EN
X-WR-TIMEZONE:America/New_York
X-WR-CALNAME:Upcoming Auctions
BEGIN:VEVENT
UID:105949
DTSTAMP:20230824T120000
DTSTART:20230824T120000
DTEND:20230824T130000
SUMMARY:New and Nearly New Thrift Shop Retirement Auction Events - L
 IVE AUCTION
LOCATION:810 Bragg Blvd. \, Fayetteville\, NC 28301\, US
DESCRIPTION:The Thompson family is retiring after serving the Fayettevi
 lle area for 40 + years!  This will be a live only auction.
  There is a large amount of both gently used vintage items a
 s well as lots of new in the box bedroom suites\, floor model
  sofas\, and lots of formal dining room tables\, chairs\, china
  cabinets and lots more.  There is a large collection of vi
 ntage fine dining china in various patterns and new mattress
 es and box springs also.  Pictures\, lamps\, buffets and item
 s for EVERY ROOM IN YOUR HOME WILL BE AVAILABLE!    More
  Info Coming soon as we will be updating the catalogue right
  up until the live auction!  We anticipate well over 1\,000 
 lots in these 2 events.  Everything must go so call a frien
 d and bring 2 trucks and your trailer! We have a large colle
 ction of Banners\, approx. 25 boxes of LP records and a large
  assortment of 3 and 4 prong new and used dryer cords that w
 ill be offered!
URL:https://www.johnsonproperties.com/auctions/detail/bw105949
SEQUENCE:1
END:VEVENT
END:VCALENDAR