BEGIN:VCALENDAR
VERSION:2.0
PRODID:-//ExpressionEngine Easy iCalendar plugin//NONSGML v2.0.1//EN
X-WR-TIMEZONE:America/Indiana/Indianapolis
X-WR-CALNAME:Upcoming Auctions
BEGIN:VEVENT
UID:105902
DTSTAMP:20230906T090000
DTSTART:20230906T090000
DTEND:20230906T100000
SUMMARY:Online Only Living Estate Auction for Mr. Leland Thompson
LOCATION:8504 Kenridge Lane\, Fuquay Varina \, NC 27526\, US
DESCRIPTION:This is notice of an online only auction for Mr. Leland Thom
 pson.  He is relocating to be with his family and Team JP h
 as been called upon to assist with selling most all of his h
 ousehold furnishings\, etc.  There is a large collection of 
 oriental figurines\, arrangements and a dining room and livin
 g room suite and lots more.  We will be posting the catalog
 ue and the link for live bidding soon.  This will most like
 ly be 2 online only auction events as there is a lot of jewe
 lry and an Elvis collection also.  We will be posting the s
 econd auction ending date and the additional catalogue soon.
   The first event will have approximately 300-350 lots.  K
 eep checking this site for updated info. Auction Date & Time
 : Wednesday\, September 6\, 2023 starts ending at 9:00am Picku
 p Date & Time: Thursday\, September 7\, 2023 from 2:00pm - 5:0
 0pm
URL:https://www.johnsonproperties.com/auctions/detail/bw105902
SEQUENCE:1
END:VEVENT
END:VCALENDAR