BEGIN:VCALENDAR
VERSION:2.0
PRODID:-//ExpressionEngine Easy iCalendar plugin//NONSGML v2.0.1//EN
X-WR-TIMEZONE:America/New_York
X-WR-CALNAME:Upcoming Auctions
BEGIN:VEVENT
UID:105829
DTSTAMP:20230821T093000
DTSTART:20230821T093000
DTEND:20230821T103000
SUMMARY:New and Nearly New Thrift Shop Retirement Auction Events
LOCATION:810 Bragg Blvd. \, Fayetteville\, NC 28301\, US
DESCRIPTION:The Thompson family is retiring after serving the Fayettevi
 lle area for 40 + years!  There will be an online auction a
 nd a live auction on Thursday\, August 24th.  See the additi
 onal posting on the JP website!  There is a large amount o
 f both gently used vintage items as well as lots of new in t
 he box bedroom suites\, floor model sofas\, and lots of formal
  dining room tables\, chairs\, china cabinets and lots more. 
  There is a large collection of vintage fine dining china in
  various patterns and new mattresses and box springs also. 
  Pictures\, lamps\, buffets and items for EVERY ROOM IN YOUR H
 OME WILL BE AVAILABLE!    More Info Coming soon as we wi
 ll be updating the catalogue right up until the live auction
 !  We anticipate well over 1\,000 lots in these 2 events.  
 Everything must go so call a friend and bring 2 trucks and y
 our trailer! We have a large collection of Banners\, approx.
  25 boxes of LP records and a large assortment of 3 and 4 pr
 ong new and used dryer cords that will be offered! Auction D
 ate & Time: Monday August 21\, 2023 starts ending at 9:30am P
 ickup Date & Time: Tuesday August 22\, 2023 from 10am - 1pm
URL:https://www.johnsonproperties.com/auctions/detail/bw105829
SEQUENCE:1
END:VEVENT
END:VCALENDAR