BEGIN:VCALENDAR
VERSION:2.0
PRODID:-//ExpressionEngine Easy iCalendar plugin//NONSGML v2.0.1//EN
X-WR-TIMEZONE:America/New_York
X-WR-CALNAME:Upcoming Auctions
BEGIN:VEVENT
UID:105737
DTSTAMP:20230905T093000
DTSTART:20230905T093000
DTEND:20230905T103000
SUMMARY:Personal Property from 2 Different Living Estates Selling On
 line Only!
LOCATION:195 Two Claude Rd\, Willow Springs \, NC 27592\, US
DESCRIPTION:This auction will include items from 2 local families and it
  includes furniture and lots more!  Auction Date & Time: Tu
 esday\, September 5th\, 2023 starts ending at 9:30am Pickup Da
 te & Time: Wednesday\, September 6th\, 2023 from 9 am to 12 no
 on
URL:https://www.johnsonproperties.com/auctions/detail/bw105737
SEQUENCE:1
END:VEVENT
END:VCALENDAR