BEGIN:VCALENDAR
VERSION:2.0
PRODID:-//ExpressionEngine Easy iCalendar plugin//NONSGML v2.0.1//EN
X-WR-TIMEZONE:America/New_York
X-WR-CALNAME:Upcoming Auctions
BEGIN:VEVENT
UID:105656
DTSTAMP:20230822T093000
DTSTART:20230822T093000
DTEND:20230822T103000
SUMMARY:Acoustic Image Liquidation
LOCATION:6220 Angus Drive Suite 105\, Raleigh\, NC 27617\, US
DESCRIPTION:This is notice of the complete liquidation of Acoustic Image
 . This will be a online only auction with items from power s
 trips\, crimping tools\, speakers\, microwave\, refrigerator\, an
 d more! You will not want to miss this auction! Auction Date
  & Time: Tuesday\, August 22\, 2023 starts ending at 9:30am Pi
 ckup Date & Time: Wednesday\, August 23\, 2023 from 11:00 am -
  4:00 pm Pickup Location: 6220 Angus Dr. Suite 105\, Raleigh 
 NC 27617
URL:https://www.johnsonproperties.com/auctions/detail/bw105656
SEQUENCE:1
END:VEVENT
END:VCALENDAR