BEGIN:VCALENDAR
VERSION:2.0
PRODID:-//ExpressionEngine Easy iCalendar plugin//NONSGML v2.0.1//EN
X-WR-TIMEZONE:America/New_York
X-WR-CALNAME:Upcoming Auctions
BEGIN:VEVENT
UID:105339
DTSTAMP:20230913T170000
DTSTART:20230913T170000
DTEND:20230913T180000
SUMMARY:Beautiful Home in Angier's Kathryn's Retreat Neighborhood
LOCATION:112 Camille Brooks Drive\, Angier\, NC 27501\, US
DESCRIPTION:This is a great opportunity to buy a 3 bedroom home only min
 utes away from downtown Angier!  This  will be offered in 
 an online/ live/simulcast event held onsite.  This home has
  an open floor plan and a gorgeous screened in back porch wi
 th concrete patio. This will be an event you do not want to 
 miss!
URL:https://www.johnsonproperties.com/auctions/detail/bw105339
SEQUENCE:1
END:VEVENT
END:VCALENDAR