BEGIN:VCALENDAR
VERSION:2.0
PRODID:-//ExpressionEngine Easy iCalendar plugin//NONSGML v2.0.1//EN
X-WR-TIMEZONE:America/New_York
X-WR-CALNAME:Upcoming Auctions
BEGIN:VEVENT
UID:104608
DTSTAMP:20230815T093000
DTSTART:20230815T093000
DTEND:20230815T103000
SUMMARY:Online Only Personal Property Auction Event for the Leland C
 . Krissman (deceased) Estate
LOCATION:61 Greenhouse Court\, Lillington\, NC 27546\, US
DESCRIPTION:This is notice of the online only personal property items fr
 om the Krissman estate.  We will be selling all of the item
 s at absolute auction in preparation for the Online\, Live\, S
 imulcast Auction of the Real Estate.  The posted catalogue 
 is partial and we will be updating it as things progress and
  we will be updating the photographs also.  There is some n
 ice furniture and great cookware as well as the yard items\, 
 grill\, etc.  We will be posting the preview dates soon.
URL:https://www.johnsonproperties.com/auctions/detail/bw104608
SEQUENCE:1
END:VEVENT
END:VCALENDAR