BEGIN:VCALENDAR
VERSION:2.0
PRODID:-//ExpressionEngine Easy iCalendar plugin//NONSGML v2.0.1//EN
X-WR-TIMEZONE:America/New_York
X-WR-CALNAME:Upcoming Auctions
BEGIN:VEVENT
UID:104443
DTSTAMP:20230814T090000
DTSTART:20230814T090000
DTEND:20230814T100000
SUMMARY:The Evelyn
LOCATION:398 Mamie Upchurch Road\, Lillington\, NC 27546\, US
DESCRIPTION:This is notice of the Teeny Upchurch Estate (deceased) Onlin
 e Personal Property Auction.  Mrs. Upchurch was a lifelong 
 resident of Harnett County that devoted her entire working c
 areer to the Farming Community in Harnett County.  It is sa
 id that she knew the farm size\, farm number and the tending
  farmer for most every farm in Harnett County for years! Th
 ere are over 350 lots including furnishings\, china\, picture
 s\, tools\, equipment and wicker furniture included in this ev
 ent.  This is an online only auction and Team JP is proud t
 o be assisting with this Estate.
URL:https://www.johnsonproperties.com/auctions/detail/bw104443
SEQUENCE:1
END:VEVENT
END:VCALENDAR