BEGIN:VCALENDAR
VERSION:2.0
PRODID:-//ExpressionEngine Easy iCalendar plugin//NONSGML v2.0.1//EN
X-WR-TIMEZONE:America/New_York
X-WR-CALNAME:Upcoming Auctions
BEGIN:VEVENT
UID:104192
DTSTAMP:20230906T170000
DTSTART:20230906T170000
DTEND:20230906T180000
SUMMARY:Manufactured  Home on nearly an acre in the Country!
LOCATION:61 Greenhouse Court\, Lillington\, NC 27546\, US
DESCRIPTION:This is notice of an upcoming real estate and personal prop
 erty for the Leland C. Krissman (deceased) estate.  This 4 
 bedroom manufactured home sits on nearly an acre (.81 ac) in
  the Country!  You are greeted by a covered porch that's pe
 rfect for your rocking chairs and morning coffee.   With a
  metal roof and vinyl exterior this home is sure to be low m
 aintenance!  The large fenced backyard is overlooked by a l
 arge covered porch.  With the large yard there is plenty of
  room to grow! Don't miss out on this gem.  This home will 
 be offered in an online\, live simulcast event and the conten
 ts will be offered in an online only event.  Please keep ch
 ecking this site for updated photographs and the preview da
 tes.  Get ready for another great event brought to you by T
 eam JP!
URL:https://www.johnsonproperties.com/auctions/detail/bw104192
SEQUENCE:1
END:VEVENT
END:VCALENDAR