BEGIN:VCALENDAR
VERSION:2.0
PRODID:-//ExpressionEngine Easy iCalendar plugin//NONSGML v2.0.1//EN
X-WR-TIMEZONE:America/New_York
X-WR-CALNAME:Upcoming Auctions
BEGIN:VEVENT
UID:103992
DTSTAMP:20230724T093000
DTSTART:20230724T093000
DTEND:20230724T103000
SUMMARY:Mama's House of Thrift Moving Auction!
LOCATION:129 W. Cornelius Harnett Blvd.\, Lillington\, NC 27546\, US
DESCRIPTION:This is notice of the complete liquidation of Mamas House of
  Thrift in Lillington. This sale will consist of a first rou
 nd online only auction with the remaining items being offere
 d in a traditional live sale after. This store has it all fr
 om clothes kids to adults\, home goods\, toys\, books and more.
  This is one you won’t want to miss. Keep checking back as
  we will be adding new items weekly. Preview Date/Time: Mond
 ay\, July 17th from 12 pm until 2 pm
URL:https://www.johnsonproperties.com/auctions/detail/bw103992
SEQUENCE:1
END:VEVENT
END:VCALENDAR