BEGIN:VCALENDAR
VERSION:2.0
PRODID:-//ExpressionEngine Easy iCalendar plugin//NONSGML v2.0.1//EN
X-WR-TIMEZONE:America/New_York
X-WR-CALNAME:Upcoming Auctions
BEGIN:VEVENT
UID:102833
DTSTAMP:20230720T090000
DTSTART:20230720T090000
DTEND:20230720T100000
SUMMARY:Civil War Artifacts\, Memoribilia\, Show Cases and More!
LOCATION:48 Progressive Parkway \, Angier\, NC 27501\, US
DESCRIPTION:We just added approximately 35 lots including some super adv
 ertising signs\, gas pumps and more!  This is a notice of a 
 large multi consignor online only auction! Items include civ
 il war era artifacts\, show cases\, handmade knives\, and much 
 more. This will be an auction you do not want to miss! Aucti
 on Time & Date: Thursday\, July 20th starts ending at 9 am Pi
 ck-Up Time and Date: Friday\, July 21st from 10 am until 2 pm
URL:https://www.johnsonproperties.com/auctions/detail/bw102833
SEQUENCE:1
END:VEVENT
END:VCALENDAR