BEGIN:VCALENDAR
VERSION:2.0
PRODID:-//ExpressionEngine Easy iCalendar plugin//NONSGML v2.0.1//EN
X-WR-TIMEZONE:America/New_York
X-WR-CALNAME:Upcoming Auctions
BEGIN:VEVENT
UID:101192
DTSTAMP:20230605T090000
DTSTART:20230605T090000
DTEND:20230605T100000
SUMMARY:Large collection of Collectibles and Vintage Items!
LOCATION:716 Holland Rd.\, Fuquay Varina\, NC 27526\, US
DESCRIPTION:This is notice of a very interesting auction of collectibles
  and items of historical significance in the Fuquay area!  
 We have a large collection of model cars\, vintage Coca Cola 
 machines\, vintage ice cream freezers\, stamp collections\, a p
 layer piano\, a jukebox\, video games and even a restored vint
 age Barber Chair!  This will be an online only event and we
  will be updating the catalogue and photos on a regular basi
 s until all is posted.  Starts Ending on Monday June 5th\, 2
 023 at 9:00am Pickup Date and Time: Tuesday June 6th\, 2023 f
 rom 12pm-5pm **IF PURCHASING VIDEO GAMES\, JUKE BOX\, PIANO - 
 PLEASE PICKUP AFTER 4PM OR CALL TO SCHEDULE**
URL:https://www.johnsonproperties.com/auctions/detail/bw101192
SEQUENCE:1
END:VEVENT
END:VCALENDAR