BEGIN:VCALENDAR
VERSION:2.0
PRODID:-//ExpressionEngine Easy iCalendar plugin//NONSGML v2.0.1//EN
X-WR-TIMEZONE:America/New_York
X-WR-CALNAME:Upcoming Auctions
BEGIN:VEVENT
UID:100029
DTSTAMP:20230515T100000
DTSTART:20230515T100000
DTEND:20230515T110000
SUMMARY:Relocation and Collectibles Online Only Auction Event!
LOCATION:1340 Old Drugstore Rd.\, Garner\, NC 27529\, US
DESCRIPTION:This is notice of an online only personal property auction e
 vent coming up including a large collection of  collectible
  Beanie Babies\, decorative pieces\, some glassware and other 
 household items like framed prints and numerous (NIB) NEW IN
  BOX Barbie Dolls plus lots more.  There is a small amount
  of furniture also and an elliptical machine for all you hea
 lth enthusiasts.  Everything selling absolute!
URL:https://www.johnsonproperties.com/auctions/detail/bw100029
SEQUENCE:1
END:VEVENT
END:VCALENDAR